BEGIN:VCALENDAR
VERSION:2.0
PRODID:-//My Community Diary//iCal Event//EN
CALSCALE:GREGORIAN
METHOD:PUBLISH
BEGIN:VEVENT
UID:0e09ab05-dbcd-46da-a230-7c761741c238
DTSTAMP:20260422T021843Z
DTSTART;VALUE=DATE:20260424
DTEND;VALUE=DATE:20260425
SUMMARY:Mindful Mixed Media with Emma Florence May
DESCRIPTION:Join artist Emma Florence May for a six-week creative journey blending artmaking and wellbeing. \n\nThese inclusive Friday classes explore mixed media\, assemblage\, and painting using found\, recycled\, and sustainable materials.\n\nGuided by Emma\, participants experiment\, play\, and express themselves in a supportive environment. \n\nAll materials provided.\n\nCan't commit to all six weeks? No problem—you can book individual sessions and join when it suits you.\n\nEntry Cost\nAll tickets $27.23  - $120 + booking fee for 6 sessions.\n$25 + booking fee for one session.\n\nAll materials included.
LOCATION:\, 2A First Street\, Booragul\, NSW 2284\, NSW\, 2284
RRULE:FREQ=DAILY;INTERVAL=1;UNTIL=20260426T000000Z
END:VEVENT
END:VCALENDAR
