BEGIN:VCALENDAR
VERSION:2.0
PRODID:-//My Community Diary//iCal Event//EN
CALSCALE:GREGORIAN
METHOD:PUBLISH
BEGIN:VEVENT
UID:053fee3f-f1fe-464b-abab-d0f90c8ea8b2
DTSTAMP:20260422T021039Z
DTSTART;VALUE=DATE:20260510
DTEND;VALUE=DATE:20260511
SUMMARY:Millhouse Art Society - Autumn Art Exhibition
DESCRIPTION:The Exhibition is a mixture of the colourful\, the contemporary and the traditional - original artworks to suit all tastes.  All artworks are created by local Shoalhaven artists.\n\nChildren's books written and illustrated by Catherine Murphy\, hand-woven baskets\, hand-painted journals\, fridge magnets and coasters\, and a variety of cards that have been hand made by the artists will also be on sale.\n\nThe Millhouse Art Gallery\, which is in the Milton (New South Wales) shopping precinct\, is located in the Courtyard Studios\, together with the Milton Library\, Nulladulla Pottery\, Shop 3 Gallery Milton\, Milton Timber Gallery and U3A.   \n\nU3A (University of the Third Age) is an international\, not-for-profit\, self-help organisation that provides learning opportunities for retired and semi-retired mature-aged people.\n\nThe Millhouse Art Society was formed in 1974 by local artists for local artists and moved to the Milton premises in 1995.\n\nYou can preview some of the artworks on the Society's website\, on Facebook and on Instagram.
LOCATION:\, 69A Princes Highway Near Milton Library\, Milton\, NSW 2538\, NSW\, 2538
RRULE:FREQ=DAILY;INTERVAL=1;UNTIL=20260512T000000Z
END:VEVENT
END:VCALENDAR
