BEGIN:VCALENDAR
VERSION:2.0
PRODID:-//My Community Diary//iCal Event//EN
CALSCALE:GREGORIAN
METHOD:PUBLISH
BEGIN:VEVENT
UID:d1eda471-5b8d-4cf7-8474-6bcfed6ba2ab
DTSTAMP:20260422T015645Z
DTSTART;VALUE=DATE:20261017
DTEND;VALUE=DATE:20261018
SUMMARY:Milby Sports Gymkhana
DESCRIPTION:Milby Sports Day is a day of fabulous fun for all the family. \n\nYou can't go past it for an authentic Aussie bush experience at the iconic Milby Sportsgrounds.\n\nThere will be a gymkhana and horse events\, steer rides\, wood chopping\, foot races\, the Bushmen's challenge\, novelty events for all ages\, fabulous food\, music\, a publican's booth and children's entertainment. Milby Sportsday has it all!
LOCATION:\, West Milby Lane\, Tullibigeal\, NSW 2669\, NSW\, 2669
END:VEVENT
END:VCALENDAR
