BEGIN:VCALENDAR
VERSION:2.0
PRODID:-//My Community Diary//iCal Event//EN
CALSCALE:GREGORIAN
METHOD:PUBLISH
BEGIN:VEVENT
UID:ebd4c2bb-3174-49b8-b7c5-87630b7c82f5
DTSTAMP:20260422T092350Z
DTSTART;VALUE=DATE:20260516
DTEND;VALUE=DATE:20260517
SUMMARY:Mikelangelo - In the Belly of the Whale
DESCRIPTION:What happens when a man meets his alter ego in the belly of a whale?\n\nIn the Belly of the Whale is a new solo show by acclaimed Croatian-Australian singer\, songwriter and performer Michael Simic. In this rollicking and revealing tale\, Simic's own story as a new dad juggling home life with life on the road intertwines with the mythic ocean adventures of his charming alter ego\, Mikelangelo. Shipwrecked and swallowed by a giant sperm whale\, the two meet in its belly and must find a way to escape.\n\nCombining songs\, storytelling\, comedy\, and physical theatre\, In the Belly of the Whale is vibrant\, tender and incredibly entertaining. This deeply personal work shines a light on what it means to be a father\, a son\, a husband\, and an artist.\n\nSimic is best known as the frontman of his long-term group Mikelangelo and the Black Sea Gentlemen\, and for his role in the Olivier-award winning international hit La Clique. He has sold out headline shows from the Sydney Opera House to London's West End\, garnering accolades and a dedicated following for his highly original work.\n\nIn the Belly of the Whale was created in collaboration with writer/director Tracy Bourne\, who has worked extensively in music and theatre in Australia\, including productions with Chamber Made Opera\, Melbourne International Festival and the ABC.
LOCATION:\, 5 Parramatta Square Basement Level 1\, Parramatta\, NSW 2150\, NSW\, 2150
END:VEVENT
END:VCALENDAR
