BEGIN:VCALENDAR
VERSION:2.0
PRODID:-//My Community Diary//iCal Event//EN
CALSCALE:GREGORIAN
METHOD:PUBLISH
BEGIN:VEVENT
UID:e3049abe-48ba-4f39-8b3c-dd982dd635fc
DTSTAMP:20260422T073318Z
DTSTART;VALUE=DATE:20260501
DTEND;VALUE=DATE:20260502
SUMMARY:Mick on Wheels Live
DESCRIPTION:Get ready for a night of gritty guitar energy\, smoky blues riffs\, and soul-drenched vocals as Mick on Wheels hits the Club Jamberoo stage\, bringing three hours of powerful\, road-tested blues-rock.\n\nAfter more than a decade touring with blues greats and lighting up festivals across Australia\, Mick delivers a dynamic mix of heartfelt originals and high-impact covers that always leave the crowd wanting more.\n\nSettle in for an up-close performance blending blues\, rock\, and soul — all in a relaxed\, family-friendly setting with seating available indoors and out on the Verandah. It's the perfect way to unwind\, enjoy great music\, and kick off your weekend with real energy.\n\nGather your mates\, grab a table\, and make a night of it at Club Jamberoo. This is one you won't want to miss.
LOCATION:\, 11 Allowrie Street\, Jamberoo\, NSW 2533\, NSW\, 2533
END:VEVENT
END:VCALENDAR
