BEGIN:VCALENDAR
VERSION:2.0
PRODID:-//My Community Diary//iCal Event//EN
CALSCALE:GREGORIAN
METHOD:PUBLISH
BEGIN:VEVENT
UID:e6b37ea1-8474-4df0-a234-ddc6847a62e7
DTSTAMP:20260422T054345Z
DTSTART;VALUE=DATE:20260630
DTEND;VALUE=DATE:20260701
SUMMARY:Michael Jackson History Show
DESCRIPTION:Don't miss your chance to see Showtime's The Michael Jackson HIStory Show – returning to Australia in 2026 to commemorate 30 years since Michael Jackson's final\, ground-breaking world tour: History.\n\nCelebrate Jackson's creative genius and unsurpassed talent with riveting live performances covering his early days as a member of the Jackson 5\, his groundbreaking theatrics in the 80s and his continued domination of Pop culture into the 21st century.\n\nSee the famous music videos come to life\, and hear all the hits performed live\, including Thriller\, Billie Jean\, Smooth Criminal\, Bad\, Beat It\, ABC\, Don't Stop Til You Get Enough\, Human Nature\, PYT\, They Don't Really Care About Us and many more.\n\nGarth Field is electrifying in his role as Jackson\, accompanied by a live band\, choreographed dancers\, authentic costumes\, state-of-the-art sound and theatrical lighting\, vision and effects.\n\nTruly a mind-blowing stage production – book now to secure your seats close to the action!\n\n\n*This is a tribute show and is not associated with the Estate of Michael Jackson.\n\nEntry Cost\nAll tickets $50  - Early Bird Offer (until Monday 6 April 10am)\nAdult $59.00\nChild $50.00\n\nFrom Monday 6 April 10am\nAdult $69.00\nConcession $66.60\nChild $50.00\nGroup 6+ $66.60
LOCATION:\, Burns Way\, Wagga Wagga\, NSW 2650\, NSW\, 2650
END:VEVENT
END:VCALENDAR
