BEGIN:VCALENDAR
VERSION:2.0
PRODID:-//My Community Diary//iCal Event//EN
CALSCALE:GREGORIAN
METHOD:PUBLISH
BEGIN:VEVENT
UID:4258ba42-9db5-4515-a395-b84a87a8bcbc
DTSTAMP:20260421T224302Z
DTSTART;VALUE=DATE:20260919
DTEND;VALUE=DATE:20260920
SUMMARY:Merriwa Springtime Show
DESCRIPTION:An Agricultural show that fosters agricultural pursuits in the community. \n\nThe show strives to showcase agricultural achievement and foster young farmers and judges in the region. \n\nThe show holds events for sheep\, cattle\, horses\, poultry\, Young Judges and Farmers\, horticulture\, photography\, art\, needlework\, preserves\, and cooking. \n\nThis is a family-friendly show that nurtures the community.
LOCATION:\, Dutton Street\, Merriwa\, NSW 2329\, NSW\, 2329
RRULE:FREQ=DAILY;INTERVAL=1;UNTIL=20260921T000000Z
END:VEVENT
END:VCALENDAR
