BEGIN:VCALENDAR
VERSION:2.0
PRODID:-//My Community Diary//iCal Event//EN
CALSCALE:GREGORIAN
METHOD:PUBLISH
BEGIN:VEVENT
UID:07a26933-4362-4c77-8e6c-c55409771b86
DTSTAMP:20260422T023605Z
DTSTART;VALUE=DATE:20260621
DTEND;VALUE=DATE:20260622
SUMMARY:Melbourne International Comedy Festival Roadshow
DESCRIPTION:GPAC Presents as a part of the 2026 Season.\n\nJoin the Melbourne International Comedy Festival Roadshow as it journeys around Australia\, delivering hot and tasty comic treats to audiences near and far. With a curated line-up of comedy legends and fresh faces from Australia and beyond\, the Roadshow has all your comedy bases covered (no joke)—all in one side-splitting show!\n\nFor almost three decades\, the Melbourne International Comedy Festival has been touring far and wide\, bringing giggles\, guffaws and good times to Australia—and now it's your turn\, Goulburn.\n\nExperience the fun of Australia's largest comedy festival in your own backyard. Grab your mates and get on board the Roadshow.\n\n"A seamless and ultra-hilarious evening!"—Scenestr\n\nEntry Cost\nAll tickets $30  - Players Member: $30.00\n\nAdult: $50.00\n\nConcession/Student/Child: $40.00\n\n *$1.65 per ticket booking fee applies.\n\nTo book wheelchair accessible seating please call the box office on 02 4823 4999.
LOCATION:\, 163 Auburn Street\, Goulburn\, NSW 2580\, NSW\, 2580
END:VEVENT
END:VCALENDAR
