BEGIN:VCALENDAR
VERSION:2.0
PRODID:-//My Community Diary//iCal Event//EN
CALSCALE:GREGORIAN
METHOD:PUBLISH
BEGIN:VEVENT
UID:3670869c-3607-4788-8383-0f2cc5b2928f
DTSTAMP:20260422T004958Z
DTSTART;VALUE=DATE:20261103
DTEND;VALUE=DATE:20261104
SUMMARY:Melbourne Cup Cruise - Newcastle
DESCRIPTION:Hop aboard "The Princess" departing Lee Wharf next to the Honeysuckle Hotel and watch the race live on TV with live entertainment\, onboard sweeps and prize give aways. \n\nAppetisers on arrival\, cocktail food\, light dessert and complimentary beverage (beer\, glass of wine/champagne or soft drink) on arrival. Complimentary tea and coffee or select from a full range of drinks available from the fully licensed bar.\n\nEntry Cost\nAll tickets $85 
LOCATION:\, 5 Honeysuckle Drive\, Newcastle\, NSW 2300\, NSW\, 2300
END:VEVENT
END:VCALENDAR
