BEGIN:VCALENDAR
VERSION:2.0
PRODID:-//My Community Diary//iCal Event//EN
CALSCALE:GREGORIAN
METHOD:PUBLISH
BEGIN:VEVENT
UID:cf1b110a-6f44-4d39-90c0-4a36493d2093
DTSTAMP:20260421T224150Z
DTSTART;VALUE=DATE:20260510
DTEND;VALUE=DATE:20260511
SUMMARY:Mega Jam
DESCRIPTION:Mega Jam is the ultimate creative arts jam where you can make music with other local musicians\, have a boogie\, get crafty\, flow and play or just get a feed and enjoy the atmosphere. Space Rock Inc in partnership with Central Coast Music and Arts are hosting a monthly get together at the Funhaus Factory and everyone is invited. Come and see your favourite local bands as they host this collaborative experience\, enjoy guest sessions with industry professionals\, get amongst it in the open jams\, catch up with friends and make some new ones too.\n\nMega Jam also includes a vibrant crafternoon space. Settle into the comfy couches and get creative. Bring along your own project or dive into a rotating range of all ages craft activities like colouring\, art\, cotton crafts\, or rock painting. No experience needed\, just a love of making stuff.
LOCATION:\, 141 Mann Street\, Gosford\, NSW 2250\, NSW\, 2250
RRULE:FREQ=DAILY;INTERVAL=1;UNTIL=20260512T000000Z
END:VEVENT
END:VCALENDAR
