BEGIN:VCALENDAR
VERSION:2.0
PRODID:-//My Community Diary//iCal Event//EN
CALSCALE:GREGORIAN
METHOD:PUBLISH
BEGIN:VEVENT
UID:d1907f21-03e7-4598-a373-590c494cbd1b
DTSTAMP:20260422T001015Z
DTSTART;VALUE=DATE:20260605
DTEND;VALUE=DATE:20260606
SUMMARY:Max To The Max
DESCRIPTION:Max to the Max is an explosion of dance\, theatre\, cabaret and burlesque that takes audiences on an exciting journey with Max as he showcases his many talents as a performing artist.\n\nThis celebration of disability led art will move you across the full range of emotions from deep reflection to pure joy with plenty of laughter along the way.
LOCATION:\, 1 Grant Street\, Ballina\, NSW 2478\, NSW\, 2478
END:VEVENT
END:VCALENDAR
