BEGIN:VCALENDAR
VERSION:2.0
PRODID:-//My Community Diary//iCal Event//EN
CALSCALE:GREGORIAN
METHOD:PUBLISH
BEGIN:VEVENT
UID:e10bc95c-df7f-4f51-898c-bd35b056a888
DTSTAMP:20260422T021940Z
DTSTART;VALUE=DATE:20260926
DTEND;VALUE=DATE:20260927
SUMMARY:Marulan Book Exchange
DESCRIPTION:The Marulan Book Exchange is run twice a monthly by local volunteers\, providing a valuable resource for locals and visitors alike. This is one of the few Book Exchanges left in New South Wales. \n\nBring your books and grab some new titles!\n\nOpen the second and fourth Saturday of the month now at St Stephen's Church in George Street\, Marulan.
LOCATION:\, 93 George Street\, Marulan\, NSW 2579\, NSW\, 2579
RRULE:FREQ=DAILY;INTERVAL=1;UNTIL=20260928T000000Z
END:VEVENT
END:VCALENDAR
