BEGIN:VCALENDAR
VERSION:2.0
PRODID:-//My Community Diary//iCal Event//EN
CALSCALE:GREGORIAN
METHOD:PUBLISH
BEGIN:VEVENT
UID:0ffcd3a7-6c60-41be-bc01-631b1fd6514b
DTSTAMP:20260422T085127Z
DTSTART;VALUE=DATE:20260502
DTEND;VALUE=DATE:20260503
SUMMARY:Maroubra Beach Markets
DESCRIPTION:This wonderful beach market is back this year. Expect shopping\, food\, fun and lots of great people at this fun monthly event. As usual\, expect an eclectic mix of high-quality stalls across food\, beverage\, fashion\, homewares\, toys\, art\, craft\, gifting\, plants and plenty more. As well\, this market will have a global hot food focus offering lots of wonderful dining for customers.
LOCATION:\, 310 Fitzgerald Avenue\, Maroubra\, NSW 2035\, NSW\, 2035
RRULE:FREQ=DAILY;INTERVAL=1;UNTIL=20260504T000000Z
END:VEVENT
END:VCALENDAR
