BEGIN:VCALENDAR
VERSION:2.0
PRODID:-//My Community Diary//iCal Event//EN
CALSCALE:GREGORIAN
METHOD:PUBLISH
BEGIN:VEVENT
UID:247d403f-33ef-4351-a4dc-26b834d93197
DTSTAMP:20260421T224312Z
DTSTART;VALUE=DATE:20260822
DTEND;VALUE=DATE:20260823
SUMMARY:Markets on Bourke
DESCRIPTION:The Markets on Bourke have a range of market stalls with lots of local goodies to be found. Everything from local arts\, and crafts\, produce\, plants\, fresh flowers\, live music and great food can all be found throughout the stalls at the hugely popular Markets on Bourke.\n\nOn the fourth Saturday of the month (the third Saturday in December and not held in January) the Markets on Bourke are held in the Goulburn Scout Hall on the corner of Bourke and Addison Streets.\n\nNo matter what you are looking for you will be spoilt for choice so make sure you are at the Scout Hall so you don't miss out!
LOCATION:\, Cnr Bourke & Addison Streets\, Goulburn\, NSW 2580\, NSW\, 2580
RRULE:FREQ=DAILY;INTERVAL=1;UNTIL=20260824T000000Z
END:VEVENT
END:VCALENDAR
