BEGIN:VCALENDAR
VERSION:2.0
PRODID:-//My Community Diary//iCal Event//EN
CALSCALE:GREGORIAN
METHOD:PUBLISH
BEGIN:VEVENT
UID:99aaaa39-a6b5-419f-a084-29c5c2e2005c
DTSTAMP:20260422T015636Z
DTSTART;VALUE=DATE:20260614
DTEND;VALUE=DATE:20260615
SUMMARY:Markets at The Orchard
DESCRIPTION:Nestled within the picturesque grounds of The Orchard on Tench Road\, their monthly market (every second Sunday) will be a vibrant showcase of handmade treasures\, local produce\, home décor\, fashion\, unique gifts\, and gourmet treats. Expect a hand-curated line-up of talented artisans\, foodies\, and creators ready to share their passions with you.\n\nArtisan Stalls: Discover beautiful handmade goods\, local art\, candles\, jewellery\, and more.\n\nGourmet Delights: Taste your way through fresh-baked treats\, premium condiments\, and delicious street food.\n\nThe Orchard Food & Bar: Enjoy a riverside feast\, a cheeky cocktail\, or a smooth barista coffee.\n\nKids' Activities & Play Area: Plenty to keep little ones smiling.\n\nLive Music: Relax under the trees with chilled tunes and a Sunday vibe you'll love.\n\nWhether you're here to shop\, eat\, or simply soak up the river views with family and friends\, The Market at The Orchard is your new monthly go-to destination for all things local and lovely.
LOCATION:\, Tench Avenue\, Penrith\, NSW 2750\, NSW\, 2750
RRULE:FREQ=DAILY;INTERVAL=1;UNTIL=20260616T000000Z
END:VEVENT
END:VCALENDAR
