BEGIN:VCALENDAR
VERSION:2.0
PRODID:-//My Community Diary//iCal Event//EN
CALSCALE:GREGORIAN
METHOD:PUBLISH
BEGIN:VEVENT
UID:42b07fbe-5dfe-4269-b8a0-c6103f71feb2
DTSTAMP:20260421T223150Z
DTSTART;VALUE=DATE:20260628
DTEND;VALUE=DATE:20260629
SUMMARY:Markets at the Marina
DESCRIPTION:Browse the ever-evolving collaboration of artisan stalls\, boutique retailers\, local makers and emerging businesses at the region's newest market held on the last Sunday of each month.  \n\nThe stunning backdrop of the Shellharbour Marina\, combined with the incredible restaurants at The Waterfront Dining Precinct\, creates the perfect place to catch up with friends\, enjoy a stroll and browse the stalls\, soak up the sun and enjoy your Sunday!
LOCATION:\, Marina Drive\, Shell Cove\, NSW 2529\, NSW\, 2529
RRULE:FREQ=DAILY;INTERVAL=1;UNTIL=20260630T000000Z
END:VEVENT
END:VCALENDAR
