BEGIN:VCALENDAR
VERSION:2.0
PRODID:-//My Community Diary//iCal Event//EN
CALSCALE:GREGORIAN
METHOD:PUBLISH
BEGIN:VEVENT
UID:f2e86f09-22d8-4884-bd12-4e197e99e29e
DTSTAMP:20260421T222316Z
DTSTART;VALUE=DATE:20260426
DTEND;VALUE=DATE:20260427
SUMMARY:Markets at the Marina
DESCRIPTION:Browse the ever-evolving collaboration of artisan stalls\, boutique retailers\, local makers and emerging businesses at the region's newest market held on the last Sunday of each month.  \n\nThe stunning backdrop of the Shellharbour Marina\, combined with the incredible restaurants at The Waterfront Dining Precinct\, creates the perfect place to catch up with friends\, enjoy a stroll and browse the stalls\, soak up the sun and enjoy your Sunday!
LOCATION:\, Marina Drive\, Shell Cove\, NSW 2529\, NSW\, 2529
RRULE:FREQ=DAILY;INTERVAL=1;UNTIL=20260428T000000Z
END:VEVENT
END:VCALENDAR
