BEGIN:VCALENDAR
VERSION:2.0
PRODID:-//My Community Diary//iCal Event//EN
CALSCALE:GREGORIAN
METHOD:PUBLISH
BEGIN:VEVENT
UID:918449bd-3354-48e9-b1c4-0b4d95bc0614
DTSTAMP:20260423T140558Z
DTSTART;VALUE=DATE:20260606
DTEND;VALUE=DATE:20260607
SUMMARY:Mark Hughes Foundation Race Day
DESCRIPTION:Come to Newcastle Racecourse for a special race day that brings mates together for a cause that truly matters.\n\nThe Mark Hughes Foundation Race Day\, proudly supported by The Burwood Inn is a celebration of racing\, community and collective impact\, all in support of Beanie for Brain Cancer Month.\n\nThis is more than a day at the track\, it's about standing shoulder to shoulder\, sharing a laugh\, cheering on the races and showing up for those affected by brain cancer. In coming together\, you'll help shine a light on awareness\, funding and support.\n\nThe Mark Hughes Foundation is dedicated to raising vital funds for life-changing research\, increasing awareness\, and providing support to brain cancer patients and their families\, ensuring no one faces this journey alone.\n\nSo\, round up your mates\, don your beanie with pride\, and enjoy an unforgettable day of racing while contributing to a cause that hits home for so many Australians.\n\nEntry Cost\nAll tickets $20 
LOCATION:\, Darling Street\, Broadmeadow\, NSW 2292\, NSW\, 2292
END:VEVENT
END:VCALENDAR
