BEGIN:VCALENDAR
VERSION:2.0
PRODID:-//My Community Diary//iCal Event//EN
CALSCALE:GREGORIAN
METHOD:PUBLISH
BEGIN:VEVENT
UID:d4b46a86-325c-4b88-a9dc-4e56d9ca00ec
DTSTAMP:20260421T211516Z
DTSTART;VALUE=DATE:20260427
DTEND;VALUE=DATE:20260428
SUMMARY:Margarita Mondays at Farmgate Restaurant
DESCRIPTION:Start your week with style at Farmgate Restaurant's Margarita Mondays. Enjoy a relaxed evening of cocktail and pizza specials in the warm and welcoming surrounds of Nowra's only full-service modern Australian restaurant. Whether you're winding down after work or gathering friends for a casual catch-up\, Margarita Mondays offer the perfect excuse to settle in\, sip on expertly crafted cocktails and savour delicious pizza\, all without the need to book. Overlooking the parkland and pond of Harry Sawkins Park\, Farmgate's cosy dining room\, bar and outdoor spaces provide the ideal setting for an easy\, enjoyable Monday night out.
LOCATION:\, 53 Graham Street\, Nowra\, NSW 2541\, NSW\, 2541
RRULE:FREQ=DAILY;INTERVAL=1;UNTIL=20260429T000000Z
END:VEVENT
END:VCALENDAR
