BEGIN:VCALENDAR
VERSION:2.0
PRODID:-//My Community Diary//iCal Event//EN
CALSCALE:GREGORIAN
METHOD:PUBLISH
BEGIN:VEVENT
UID:cf214a38-9276-4640-98b6-8f445491f0c8
DTSTAMP:20260422T002823Z
DTSTART;VALUE=DATE:20260718
DTEND;VALUE=DATE:20260719
SUMMARY:Makers and Finders Market Murwillumbah
DESCRIPTION:Nestled in the heart of eclectic Murwillumbah\, the Makers and Finders Market celebrates the creative spirit of the Northern Rivers. This vibrant community event brings together local makers\, growers\, artists\, recyclers\, and vintage collectors in the leafy surrounds of Knox Park — creating a colourful hub of handmade and preloved goodness.\n\nBrowse a unique mix of handcrafted wares\, local produce\, vintage treasures\, and collectables\, then take a moment to unwind under the trees. Enjoy live music\, grab a coffee\, and soak up the laid-back atmosphere while the kids explore the adventure playground\, skate park\, or nearby tennis courts.\n\nJust across the street\, step into the M-Arts Precinct — a creative haven inside a restored art deco building. Meet local ceramicists\, illustrators\, and sculptors\, watch live studio demos\, and discover beautiful handmade pieces in the open shipping container studios.\n\nWhether you're a lover of handmade\, vintage\, or flea finds\, this Northern Rivers gem offers a perfect blend of creativity\, community\, and charm.
LOCATION:\, Wollumbin Street 104\, Murwillumbah\, NSW 2484\, NSW\, 2484
RRULE:FREQ=DAILY;INTERVAL=1;UNTIL=20260720T000000Z
END:VEVENT
END:VCALENDAR
