BEGIN:VCALENDAR
VERSION:2.0
PRODID:-//My Community Diary//iCal Event//EN
CALSCALE:GREGORIAN
METHOD:PUBLISH
BEGIN:VEVENT
UID:d31cdd73-2458-4400-8b46-bdd80b7b22e7
DTSTAMP:20260422T005105Z
DTSTART;VALUE=DATE:20261010
DTEND;VALUE=DATE:20261011
SUMMARY:Maitland Riverlights
DESCRIPTION:Maitland Riverlights will transform into a global village where you can see\, taste\, feel and experience over 40 different cultures from around the world. Collect your Riverlights cultural passport on the day and explore your way through The Levee's global village.\n\nStop by the world stage\, language lounge\, groove fusion stage and the global kitchen to experience a trip around the world right here in Maitland.\n\nDon't miss live music and dynamic performances on the Riverlights Stage and catch the Finale Showpiece held on the riverbank along with the community lantern flotilla.\n\nKeep an eye on The Maitland Riverlights website for updates closer to the event.\n\nFunding for this project has been provided by the NSW Government in association with Maitland City Council.
LOCATION:\, High Street\, Maitland\, NSW 2320\, NSW\, 2320
END:VEVENT
END:VCALENDAR
