BEGIN:VCALENDAR
VERSION:2.0
PRODID:-//My Community Diary//iCal Event//EN
CALSCALE:GREGORIAN
METHOD:PUBLISH
BEGIN:VEVENT
UID:206d1a37-2d35-46be-a0c3-1575a892855b
DTSTAMP:20260422T021930Z
DTSTART;VALUE=DATE:20261101
DTEND;VALUE=DATE:20261102
SUMMARY:Maitland Rail Museum - Open Days
DESCRIPTION:South Maitland Railways attracts growing interest for its heritage significance\, in essence\, a perfectly preserved Victorian railway\, seemingly immune to the new electronic age. It was the last railway in Australia engaged in the complete restoration and operation of steam locomotives for commercial purposes.\n\nThe Maitland Rail Museum has been formed to preserve\, restore and display\, materials and records that interpret the part played by the South Maitland Railways in the settlement and transformation of the Maitland and Cessnock region to become one of the most important coal-producing areas in the world of the mid 20th century.\n\nThe museum itself has interpretive displays as well as equipment\, tools and other artefacts used by the railway.\n\nThe museum is open the first Sunday of each month and other times by arrangement.
LOCATION:\, Mount Dee Road\, Maitland\, NSW 2320\, NSW\, 2320
RRULE:FREQ=DAILY;INTERVAL=1;UNTIL=20261103T000000Z
END:VEVENT
END:VCALENDAR
