BEGIN:VCALENDAR
VERSION:2.0
PRODID:-//My Community Diary//iCal Event//EN
CALSCALE:GREGORIAN
METHOD:PUBLISH
BEGIN:VEVENT
UID:41cc314b-754f-4e02-9395-31367d70464f
DTSTAMP:20260421T225600Z
DTSTART;VALUE=DATE:20260704
DTEND;VALUE=DATE:20260705
SUMMARY:Maitland and Coalfields District Orchid Society Shows
DESCRIPTION:Maitland and Coalfields District Orchid Society presents the Winter and Spring Orchid shows in Morpeth.\n\nOrchid plants and other varieties of plants will be for sale. Experienced growers available during the show to give advice on orchid care. Society's shop will be open with bark\, labels\, plant clip\, fertilizer and perlite for sale and orchid plants being raffled.\n\nPassionate about blooms or in need of some advice\, the enthusiastic growers of Maitland & Coalfield's District Orchid Society have got you covered.\n\nEntry Cost\nAll tickets $2 
LOCATION:\, 110 High Street\, Morpeth\, NSW 2321\, NSW\, 2321
RRULE:FREQ=DAILY;INTERVAL=1;UNTIL=20260706T000000Z
END:VEVENT
END:VCALENDAR
