BEGIN:VCALENDAR
VERSION:2.0
PRODID:-//My Community Diary//iCal Event//EN
CALSCALE:GREGORIAN
METHOD:PUBLISH
BEGIN:VEVENT
UID:b1b4f1b4-9751-4a7f-b753-9918dade5dcf
DTSTAMP:20260421T222357Z
DTSTART;VALUE=DATE:20260507
DTEND;VALUE=DATE:20260508
SUMMARY:Lynda Draper ‘Glimmer' Exhibition
DESCRIPTION:Lynda Draper 'Glimmer'\, a survey exhibition celebrating Thirroul-based artist Lynda Draper.\n\nFollowing the premiere of the exhibition at Campbelltown Arts Centre\, Goulburn Regional Art Gallery is delighted to partner to present a new iteration of this important exhibition of a renowned Australian artist.\n\nDraper is celebrated as one of Australia's most innovative ceramic practitioners. Across four decades of practice as an artist and educator\, Draper has continued to push the technical limits and aesthetic conventions of ceramics. Resembling papier-mâché\, bubble gum\, pearl\, wax\, and paper\, her works evoke the tactile and visual fragility of clay\, capturing the alchemy and allure of the making process.  \n\nDraper's practice explores the intersection of dreams and reality. Her works draw from memory\, life events\, and the environment. Her practice is shaped by an interest in material culture and how meaning is ascribed to physical objects.  \n\nGlimmer brings together key bodies of work by Draper\, creating a space for contemplation and imagination. Featuring loans from major public institutions and private collections\, the exhibition also debuts new commissions which incorporate glass and bronze for the first time – offering an in-depth exploration of Draper's practice.  \n\nDraper?is represented by Sullivan+Strumpf\,?Sydney\, Melbourne and Singapore\, and Galerie Lefebvre & Fils\, Paris\, France. \n\nLynda Draper | Glimmer is a Campbelltown Arts Centre exhibition presented in partnership with Goulburn Regional Art Gallery.
LOCATION:\, 184 Bourke Street\, Goulburn\, NSW 2580\, NSW\, 2580
RRULE:FREQ=DAILY;INTERVAL=1;UNTIL=20260509T000000Z
END:VEVENT
END:VCALENDAR
