BEGIN:VCALENDAR
VERSION:2.0
PRODID:-//My Community Diary//iCal Event//EN
CALSCALE:GREGORIAN
METHOD:PUBLISH
BEGIN:VEVENT
UID:cdb4980d-1c56-49f2-9014-ce0b1a8c244d
DTSTAMP:20260422T021143Z
DTSTART;VALUE=DATE:20260620
DTEND;VALUE=DATE:20260621
SUMMARY:Luminous
DESCRIPTION:As the longest night of the year falls\, join Luminous\, an experience of dazzling lighting installations\, fiery displays\, and enjoy a tasty beverage in a cosy space that warms the soul on these chilly nights. \n\nFeaturing live performances and demonstrations\, a fireworks display\, interactive experiences\, and a touch of mystery\, rug up\, embrace the glow\, and make this solstice a night to remember.
LOCATION:\, High Street\, Maitland\, NSW 2320\, NSW\, 2320
RRULE:FREQ=DAILY;INTERVAL=1;UNTIL=20260622T000000Z
END:VEVENT
END:VCALENDAR
