BEGIN:VCALENDAR
VERSION:2.0
PRODID:-//My Community Diary//iCal Event//EN
CALSCALE:GREGORIAN
METHOD:PUBLISH
BEGIN:VEVENT
UID:b5fe035f-f14a-48d8-b5c2-de6f4b3ce9e3
DTSTAMP:20260422T033734Z
DTSTART;VALUE=DATE:20260619
DTEND;VALUE=DATE:20260620
SUMMARY:Luminous
DESCRIPTION:As the longest night of the year falls\, join Luminous\, an experience of dazzling lighting installations\, fiery displays\, and enjoy a tasty beverage in a cosy space that warms the soul on these chilly nights. \n\nFeaturing live performances and demonstrations\, a fireworks display\, interactive experiences\, and a touch of mystery\, rug up\, embrace the glow\, and make this solstice a night to remember.
LOCATION:\, High Street\, Maitland\, NSW 2320\, NSW\, 2320
RRULE:FREQ=DAILY;INTERVAL=1;UNTIL=20260621T000000Z
END:VEVENT
END:VCALENDAR
