BEGIN:VCALENDAR
VERSION:2.0
PRODID:-//My Community Diary//iCal Event//EN
CALSCALE:GREGORIAN
METHOD:PUBLISH
BEGIN:VEVENT
UID:233db46a-a8ab-40dd-8d46-5f28cd7596b7
DTSTAMP:20260422T071755Z
DTSTART;VALUE=DATE:20260524
DTEND;VALUE=DATE:20260525
SUMMARY:Luke Kidgell: Good Intentions - Penrith
DESCRIPTION:Luke Kidgell continues his new World Tour in Australia.\n\n Luke is known for his viral crowd-work interactions that often lead to some fairly unusual\, yet hilarious encounters. Despite not having much control over his impulsive thoughts\, Luke insists that deep down he means well\, and this year he's on a mission to prove it.\n\nAfter touring the United States\, Canada\, New Zealand and Europe\, Luke is coming back home with his brand-new show Good Intentions. This is not one to miss.\n\nYou've seen him on the internet\, now it's time to see him in real life\, as Luke tries to prove that he really does have Good Intentions.\n\nEntry Cost\nAll tickets $55 
LOCATION:\, 83 Mulgoa Road\, Penrith\, NSW 2750\, NSW\, 2750
END:VEVENT
END:VCALENDAR
