BEGIN:VCALENDAR
VERSION:2.0
PRODID:-//My Community Diary//iCal Event//EN
CALSCALE:GREGORIAN
METHOD:PUBLISH
BEGIN:VEVENT
UID:783de85d-a552-470d-b0d6-dc28853a1d0f
DTSTAMP:20260423T102935Z
DTSTART;VALUE=DATE:20260528
DTEND;VALUE=DATE:20260529
SUMMARY:Luke Kidgell: Good Intentions - Bega
DESCRIPTION:Luke Kidgell continues new World Tour in Australia.\n\nLuke is known for his viral crowd-work interactions that often lead to some fairly unusual\, yet hilarious encounters. Despite not having much control over his impulsive thoughts\, Luke insists that deep down he means well\, and this year he's on a mission to prove it.\n\nAfter touring the United States\, Canada\, New Zealand and Europe\, Luke is coming back home with his brand-new show Good Intentions. This is not one to miss.\n\nYou've seen him on the internet\, now it's time to see him in real life\, as Luke tries to prove that he really does have Good Intentions.\n\nEntry Cost\nAll tickets $55 
LOCATION:\, Zingel Pl\, Bega\, NSW 2550\, NSW\, 2550
END:VEVENT
END:VCALENDAR
