BEGIN:VCALENDAR
VERSION:2.0
PRODID:-//My Community Diary//iCal Event//EN
CALSCALE:GREGORIAN
METHOD:PUBLISH
BEGIN:VEVENT
UID:22cfadcd-832f-4e74-9d98-81ced8769991
DTSTAMP:20260421T205528Z
DTSTART;VALUE=DATE:20270227
DTEND;VALUE=DATE:20270228
SUMMARY:Luddenham Show
DESCRIPTION:Set in historic Luddenham on the outskirts of Western Sydney\, the Luddenham Show has a proud history\, with the committee delivering the 121st edition of the Show in 2027.  Set across two days\, the Luddenham Show offers something for everyone with a range of activities for the young and young at heart. Whilst the feature competitions and headline entertainment vary from year to year\, the following Show favourites are always on the program.\n\nLuddenham Show offers the following free competitions\, with a range of prizes up for grabs from thanks to generous sponsors within the community. \n\nFor enquiries including times\, ticket prices\, entry fees and forms\, trade space and sponsorship\, please contact the Luddenham AH and I Show Society directly or visit the website.\n\nEntry Cost\nAdult $20 \nChild $10  - Children under 16 years of age\nFamily $40  - 2 x adults and up to 4 x children under 16\nConcession $10  - Aged pensioners - ID required\nFamily $60  - Weekend family pass includes entry on both days for up to 2 x adults and 4 x children under 16
LOCATION:\, Corner of Park Road and Campbell St\, Luddenham\, NSW 2745\, NSW\, 2745
RRULE:FREQ=DAILY;INTERVAL=1;UNTIL=20270301T000000Z
END:VEVENT
END:VCALENDAR
