BEGIN:VCALENDAR
VERSION:2.0
PRODID:-//My Community Diary//iCal Event//EN
CALSCALE:GREGORIAN
METHOD:PUBLISH
BEGIN:VEVENT
UID:89848e7a-5b60-4f49-b76e-2c91a7dd29c8
DTSTAMP:20260422T021749Z
DTSTART;VALUE=DATE:20270410
DTEND;VALUE=DATE:20270411
SUMMARY:Love Me Again - Monthly Pop-Up Rack Sale
DESCRIPTION:Love Me Again is a sustainable fashion market where you can buy and sell pre-loved clothing. Sellers can book a rack to display items\, while shoppers can browse unique second-hand finds and give clothes a new life.
LOCATION:\, 94 Keen Street\, Lismore\, NSW 2480\, NSW\, 2480
RRULE:FREQ=DAILY;INTERVAL=1;UNTIL=20270412T000000Z
END:VEVENT
END:VCALENDAR
