BEGIN:VCALENDAR
VERSION:2.0
PRODID:-//My Community Diary//iCal Event//EN
CALSCALE:GREGORIAN
METHOD:PUBLISH
BEGIN:VEVENT
UID:04a1dece-9a1f-4c77-8d5b-14724c7732f6
DTSTAMP:20260422T021825Z
DTSTART;VALUE=DATE:20270109
DTEND;VALUE=DATE:20270110
SUMMARY:Love Me Again - Monthly Pop-Up Rack Sale
DESCRIPTION:Love Me Again is a sustainable fashion market where you can buy and sell pre-loved clothing. Sellers can book a rack to display items\, while shoppers can browse unique second-hand finds and give clothes a new life.
LOCATION:\, 94 Keen Street\, Lismore\, NSW 2480\, NSW\, 2480
RRULE:FREQ=DAILY;INTERVAL=1;UNTIL=20270111T000000Z
END:VEVENT
END:VCALENDAR
