BEGIN:VCALENDAR
VERSION:2.0
PRODID:-//My Community Diary//iCal Event//EN
CALSCALE:GREGORIAN
METHOD:PUBLISH
BEGIN:VEVENT
UID:17e1b60a-6403-4d14-bd80-f6b0f5f4639c
DTSTAMP:20260421T225639Z
DTSTART;VALUE=DATE:20260808
DTEND;VALUE=DATE:20260809
SUMMARY:Love Me Again - Monthly Pop-Up Rack Sale
DESCRIPTION:Love Me Again is a sustainable fashion market where you can buy and sell pre-loved clothing. Sellers can book a rack to display items\, while shoppers can browse unique second-hand finds and give clothes a new life.
LOCATION:\, 94 Keen Street\, Lismore\, NSW 2480\, NSW\, 2480
RRULE:FREQ=DAILY;INTERVAL=1;UNTIL=20260810T000000Z
END:VEVENT
END:VCALENDAR
