BEGIN:VCALENDAR
VERSION:2.0
PRODID:-//My Community Diary//iCal Event//EN
CALSCALE:GREGORIAN
METHOD:PUBLISH
BEGIN:VEVENT
UID:a6957162-92ab-4f7a-98b5-9777e34e64d0
DTSTAMP:20260422T065019Z
DTSTART;VALUE=DATE:20260502
DTEND;VALUE=DATE:20260503
SUMMARY:Louis Hanson - Good Boy!
DESCRIPTION:Louis Hanson's debut one-man show has arrived.\n\nLast year\, Louis made a certain discovery that prompted him to take a walk down memory lane\, metaphorically hold a mirror up to his face\, and ask himself "how did I end up here?" (Sounds daunting\, right?) (Cue the pensive\, orchestral music…)\n\nGood Boy! is the comedic culmination of this very walk down memory lane – a 70-minute multimedia narrative show\, in which Louis reveals his innermost thoughts\, alongside the pivotal moments that shaped him into the man he is today. New storytimes\, new laughs\, and new revelations… all wrapped up in a comedic\, chaotic and cathartic bow.\n\nOh\, and it obviously includes all of the elements you've come to know and love Louis for – videos\, songs\, memeable PowerPoint presentations and questionable Photoshop skills (duh).\n\nYou may know the online media personality\, but do you know the person behind the screen? Don't miss his debut solo show\, in what promises to be his most unflinching\, personal work to date (with giggles sprinkled throughout\, of course).\n\nLouis made his Melbourne International Comedy Festival and Sydney Comedy Festival debuts in 2023\, performing Besties\, a sold-out comedy show\, alongside friend Lucinda Price\, that garnered a 5-star review in The Age. In 2024\, he then toured sold-out live shows for Everybody Has A Secret\, the podcast in which he co-hosted.\n\nEntry Cost\nAll tickets $45 
LOCATION:\, 105 Victoria Road\, Marrickville\, NSW 2204\, NSW\, 2204
END:VEVENT
END:VCALENDAR
