BEGIN:VCALENDAR
VERSION:2.0
PRODID:-//My Community Diary//iCal Event//EN
CALSCALE:GREGORIAN
METHOD:PUBLISH
BEGIN:VEVENT
UID:dc170a5e-4aa9-4469-a758-9f5ddab50303
DTSTAMP:20260421T211523Z
DTSTART;VALUE=DATE:20260430
DTEND;VALUE=DATE:20260501
SUMMARY:Lose to Win | Central Coast
DESCRIPTION:A Belvoir St Theatre Production \nLose to Win\nby Mandela Mathia \nDirected by Jessica Arthur \n\nFrom South Sudan to Egypt to our stage\, this is the extraordinary journey of Mandela Mathia. Fleeing war-torn home as a child\, Mandela spent many years journeying\, searching\, and eventually finding his way to our stage. This is a joyful\, poignant solo show\, straight from the man who lived it. \n\nA celebration of South Sudanese community\, of resilience and the power or imagination\, Lose to Win is an astonishing modern Australian story.\n\nEntry Cost\nAll tickets $40 
LOCATION:\, 5 Laycock Street\, Wyoming\, NSW 2250\, NSW\, 2250
END:VEVENT
END:VCALENDAR
