BEGIN:VCALENDAR
VERSION:2.0
PRODID:-//My Community Diary//iCal Event//EN
CALSCALE:GREGORIAN
METHOD:PUBLISH
BEGIN:VEVENT
UID:14fab3c1-d0f8-414f-8cc3-0220c8829a24
DTSTAMP:20260422T035739Z
DTSTART;VALUE=DATE:20260614
DTEND;VALUE=DATE:20260615
SUMMARY:Long Valley Meats Battle of the Burgers
DESCRIPTION:The Battle of the Burgers is an event where the public gets to decide who has the best burger in the presented line up. \n\nSome of the Shoalhaven's best food trucks plus some unexpected favourites will be making burgers to see who will win the coveted Burger Battle Trophy and have bragging rights for 12 months. The public will help decide on which burger will reign supreme!\n\nNo need to book\, just come along and join in the competitive atmosphere\, peruse the food trucks\, make your choices\, and cast your votes! (Each food truck sets their own prices\, so that becomes part of the "value for money" criteria). Results to be announced at 2.00pm.\n\nMarket stalls\, entertainment in the Sports Club\, free mini-golf\, live music\, and a choice of fabulous burgers\, what a great way to spend the day!\n\nProudly supported by The Shoalhaven Food Network as part of the Autumn Celebration of food\, and thanks to 2026 sponsor\, Long Valley Meats\n\nEntry Cost\nAll tickets $100  - Plus $5.49 Booking Fee\nGroup $760  - Table of eight.\nPlus $42.16 booking fee\nGroup $950  - Table of ten.\nPlus $52.70 fee
LOCATION:\, 336 Huskisson Road\, Huskisson\, NSW 2540\, NSW\, 2540
END:VEVENT
END:VCALENDAR
