BEGIN:VCALENDAR
VERSION:2.0
PRODID:-//My Community Diary//iCal Event//EN
CALSCALE:GREGORIAN
METHOD:PUBLISH
BEGIN:VEVENT
UID:a94e39cc-9c28-44ea-b849-ac09beaacc9e
DTSTAMP:20260422T032211Z
DTSTART;VALUE=DATE:20260904
DTEND;VALUE=DATE:20260905
SUMMARY:Lockhart Show
DESCRIPTION:The Lockhart Show is a community event held every year in September.\n\nGather the kids and head down to Lockhart's Showground for a fun-packed day with things for all ages.
LOCATION:\, Treasure Street\, Lockhart\, NSW 2656\, NSW\, 2656
END:VEVENT
END:VCALENDAR
