BEGIN:VCALENDAR
VERSION:2.0
PRODID:-//My Community Diary//iCal Event//EN
CALSCALE:GREGORIAN
METHOD:PUBLISH
BEGIN:VEVENT
UID:5eb38bce-fad5-48f4-929d-c2e0294f2832
DTSTAMP:20260421T211442Z
DTSTART;VALUE=DATE:20260503
DTEND;VALUE=DATE:20260504
SUMMARY:Live Music with Goulburn Country Music Association
DESCRIPTION:Come along on the first Sunday of each month to the Goulburn Workers Club and enjoy four hours of non-stop live country music\, popular soft rock and easy-listening music. There is something for everyone and a large dance floor for all who love to dance! \n\nSit back\, relax and enjoy yourself in the McKell Sports Bar and Lounge.\n\nPlease contact the Workers Club before attending the event as occasionally a sporting event may cause the music to be cancelled or moved to another room.
LOCATION:\, 1 McKell Place\, Goulburn\, NSW 2580\, NSW\, 2580
RRULE:FREQ=DAILY;INTERVAL=1;UNTIL=20260505T000000Z
END:VEVENT
END:VCALENDAR
