BEGIN:VCALENDAR
VERSION:2.0
PRODID:-//My Community Diary//iCal Event//EN
CALSCALE:GREGORIAN
METHOD:PUBLISH
BEGIN:VEVENT
UID:4f1772fd-51bc-47cd-8f79-9f59bb71c7e1
DTSTAMP:20260421T224116Z
DTSTART;VALUE=DATE:20260808
DTEND;VALUE=DATE:20260809
SUMMARY:Live Music Saturday at Williams Street
DESCRIPTION:Looking for the perfect Saturday night out? Head to Williams Street in Lennox Head every Saturday for an unforgettable evening of live music\, delicious food\, and amazing drinks.\n\nWhether you're there for the vibes\, the tunes\, or the mouth-watering menu\, Williams Street is the place to be.
LOCATION:\, 50 Pacific Parade\, Lennox Head\, NSW 2478\, NSW\, 2478
RRULE:FREQ=DAILY;INTERVAL=1;UNTIL=20260810T000000Z
END:VEVENT
END:VCALENDAR
