BEGIN:VCALENDAR
VERSION:2.0
PRODID:-//My Community Diary//iCal Event//EN
CALSCALE:GREGORIAN
METHOD:PUBLISH
BEGIN:VEVENT
UID:a42d060a-3a64-4457-9aff-1be2be04e0c5
DTSTAMP:20260422T035612Z
DTSTART;VALUE=DATE:20260502
DTEND;VALUE=DATE:20260503
SUMMARY:Live Music Saturday at Williams Street
DESCRIPTION:Looking for the perfect Saturday night out? Head to Williams Street in Lennox Head every Saturday for an unforgettable evening of live music\, delicious food\, and amazing drinks.\n\nWhether you're there for the vibes\, the tunes\, or the mouth-watering menu\, Williams Street is the place to be.
LOCATION:\, 50 Pacific Parade\, Lennox Head\, NSW 2478\, NSW\, 2478
RRULE:FREQ=DAILY;INTERVAL=1;UNTIL=20260504T000000Z
END:VEVENT
END:VCALENDAR
