BEGIN:VCALENDAR
VERSION:2.0
PRODID:-//My Community Diary//iCal Event//EN
CALSCALE:GREGORIAN
METHOD:PUBLISH
BEGIN:VEVENT
UID:7c9a63af-27c9-41f6-a810-59fc3eabb6dc
DTSTAMP:20260421T211426Z
DTSTART;VALUE=DATE:20261003
DTEND;VALUE=DATE:20261004
SUMMARY:Live Music  Friday Nights at Duntry
DESCRIPTION:Kick off your weekend the right way at Duntryleague!\n\nJoin them every Friday night for great live music\, delicious meals\, cold drinks and the perfect atmosphere to unwind with friends. Whether you're in the mood to hit the dance floor or simply sit back and relax\, we've got your Friday sorted.\n\nMake it your new Friday night tradition.\n\nSee you this Friday!
LOCATION:\, 195 Woodward Street\, Orange\, NSW 2800\, NSW\, 2800
RRULE:FREQ=DAILY;INTERVAL=1;UNTIL=20261005T000000Z
END:VEVENT
END:VCALENDAR
