BEGIN:VCALENDAR
VERSION:2.0
PRODID:-//My Community Diary//iCal Event//EN
CALSCALE:GREGORIAN
METHOD:PUBLISH
BEGIN:VEVENT
UID:0373a4d0-c2c2-4200-8cf0-af34c0e10bd4
DTSTAMP:20260422T032305Z
DTSTART;VALUE=DATE:20260816
DTEND;VALUE=DATE:20260817
SUMMARY:Little Turtle Sound Immersion
DESCRIPTION:Unique. Profound. Ancient.\nLittle Turtle\, a world-travelled\, initiated female Didjeridu player of over 30 years\, offers her 55-minute immersion experiences in Ballina\, where salt water meets the freshwater of the Richmond River.  Immersion sounds also include a buffalo skin drum\, 432hertz crystal bowls\, shaman rattles and voice.  \nOpen yourself to the unique energetic vibration these immersions offer. Leave feeling a deeper connection to this country\, others and yourself.\nMonthly Events are regularly sold out so book early.\n\nEntry Cost\nAll tickets $30  - Price is per person. Please BYO  yoga mat (or something to lie on\, pillow\, rug and eye mask if want complete darkness.  If lying on floor is an issue can bring camp chair or use hall chairs available on site
LOCATION:\, Cherry Street\, Ballina\, NSW 2478\, NSW\, 2478
RRULE:FREQ=DAILY;INTERVAL=1;UNTIL=20260818T000000Z
END:VEVENT
END:VCALENDAR
