BEGIN:VCALENDAR
VERSION:2.0
PRODID:-//My Community Diary//iCal Event//EN
CALSCALE:GREGORIAN
METHOD:PUBLISH
BEGIN:VEVENT
UID:901b2f27-899b-4c73-b4f3-aa504b54b883
DTSTAMP:20260422T021755Z
DTSTART;VALUE=DATE:20260530
DTEND;VALUE=DATE:20260531
SUMMARY:Lismore Speedway Season Calendar
DESCRIPTION:Lismore Speedway hosts a series of scheduled events involving six\, sometimes up to ten drivers competing over eight anti-clockwise laps of the oval circuit.\n\nCome and check out the action where you will see fast paced machines sideways\, power sliding or broadsiding into the bends.\n\nThe Speedway track is a 400 metre long raceway made up of a Clay / Sand Mix which offers great racing without the dust or too many large ruts. The track is 15 metres wide all round give plenty of room for side by side racing.\n\nEntry Cost\nAll tickets $0 
LOCATION:\, 116 Alexandra Parade\, North Lismore\, NSW 2480\, NSW\, 2480
RRULE:FREQ=DAILY;INTERVAL=1;UNTIL=20260601T000000Z
END:VEVENT
END:VCALENDAR
