BEGIN:VCALENDAR
VERSION:2.0
PRODID:-//My Community Diary//iCal Event//EN
CALSCALE:GREGORIAN
METHOD:PUBLISH
BEGIN:VEVENT
UID:8efb5369-6068-40c4-8500-bc4e57fcc5e2
DTSTAMP:20260421T210325Z
DTSTART;VALUE=DATE:20270316
DTEND;VALUE=DATE:20270317
SUMMARY:Lismore Organic Market
DESCRIPTION:The Lismore Organic Market is a weekly market committed to providing local organic produce.\n\nStallholders have travelled an average of 20 kilometres rather than at least 1000 kilometres you would expect from most supermarket produce. \n\nEnjoy the atmosphere - this toddler/child-friendly market not only supplies you with the freshest vegetables you are likely to find anywhere (except your own garden)\, you can also get growing tips as you do your shopping.
LOCATION:\, 116 Alexandra Parade\, North Lismore\, NSW 2480\, NSW\, 2480
RRULE:FREQ=DAILY;INTERVAL=1;UNTIL=20270318T000000Z
END:VEVENT
END:VCALENDAR
