BEGIN:VCALENDAR
VERSION:2.0
PRODID:-//My Community Diary//iCal Event//EN
CALSCALE:GREGORIAN
METHOD:PUBLISH
BEGIN:VEVENT
UID:357c4822-955f-4c87-8022-d934e1f7bc04
DTSTAMP:20260422T015729Z
DTSTART;VALUE=DATE:20270105
DTEND;VALUE=DATE:20270106
SUMMARY:Lismore Organic Market
DESCRIPTION:The Lismore Organic Market is a weekly market committed to providing local organic produce.\n\nStallholders have travelled an average of 20 kilometres rather than at least 1000 kilometres you would expect from most supermarket produce. \n\nEnjoy the atmosphere - this toddler/child-friendly market not only supplies you with the freshest vegetables you are likely to find anywhere (except your own garden)\, you can also get growing tips as you do your shopping.
LOCATION:\, 116 Alexandra Parade\, North Lismore\, NSW 2480\, NSW\, 2480
RRULE:FREQ=DAILY;INTERVAL=1;UNTIL=20270107T000000Z
END:VEVENT
END:VCALENDAR
