BEGIN:VCALENDAR
VERSION:2.0
PRODID:-//My Community Diary//iCal Event//EN
CALSCALE:GREGORIAN
METHOD:PUBLISH
BEGIN:VEVENT
UID:a2049739-589d-45b1-93f4-37289289c99b
DTSTAMP:20260421T225652Z
DTSTART;VALUE=DATE:20261128
DTEND;VALUE=DATE:20261129
SUMMARY:Lismore Farmers Market
DESCRIPTION:The Lismore Farmers Market is a fabulous place in Lismore to get fresh fruit and vegetables directly from the growers. \n\nThey have a large garden section with plants\, mulch\, compost\, raised planters and worm wee. There are also honey\, nuts\, pork\, lamb\, boutique salami\, eggs\, bread\, pastries\, cakes\, chocolates\, spices\, jams\, pickles\, sauces\, kraut and kombucha.\n\nThere is plenty of parking as well as undercover shopping\, kids entertainment\, coffee\, cakes and breakfast. Start the weekend with a scrumptious breakfast and coffee while listening to live music. Dogs on leads are welcome.
LOCATION:\, 116 Alexandra Parade\, North Lismore\, NSW 2480\, NSW\, 2480
RRULE:FREQ=DAILY;INTERVAL=1;UNTIL=20261130T000000Z
END:VEVENT
END:VCALENDAR
