BEGIN:VCALENDAR
VERSION:2.0
PRODID:-//My Community Diary//iCal Event//EN
CALSCALE:GREGORIAN
METHOD:PUBLISH
BEGIN:VEVENT
UID:da2ffb96-9d8e-4353-b0e6-940ed92aab4b
DTSTAMP:20260422T054325Z
DTSTART;VALUE=DATE:20260621
DTEND;VALUE=DATE:20260622
SUMMARY:Lismore City Bowlo Markets
DESCRIPTION:Markets in Lismore? What will the Bowlo think of next?\n\nTrash and treasure\, vintage clothing\, bric a brac\, plants\, honey plus a whole bunch of other stuff.\nGet down to the Bowlo markets on the third Sunday of the Month.\n\nLismore City Bowling Club - the hidden Gem next to the pool right behind the municipal building in the CBD.
LOCATION:\, 171A Molesworth Street\, Lismore\, NSW 2480\, NSW\, 2480
RRULE:FREQ=DAILY;INTERVAL=1;UNTIL=20260623T000000Z
END:VEVENT
END:VCALENDAR
