BEGIN:VCALENDAR
VERSION:2.0
PRODID:-//My Community Diary//iCal Event//EN
CALSCALE:GREGORIAN
METHOD:PUBLISH
BEGIN:VEVENT
UID:5214840d-ee69-41a3-9786-28105c441943
DTSTAMP:20260422T092017Z
DTSTART;VALUE=DATE:20260517
DTEND;VALUE=DATE:20260518
SUMMARY:Lismore City Bowlo Markets
DESCRIPTION:Markets in Lismore? What will the Bowlo think of next?\n\nTrash and treasure\, vintage clothing\, bric a brac\, plants\, honey plus a whole bunch of other stuff.\nGet down to the Bowlo markets on the third Sunday of the Month.\n\nLismore City Bowling Club - the hidden Gem next to the pool right behind the municipal building in the CBD.
LOCATION:\, 171A Molesworth Street\, Lismore\, NSW 2480\, NSW\, 2480
RRULE:FREQ=DAILY;INTERVAL=1;UNTIL=20260519T000000Z
END:VEVENT
END:VCALENDAR
