BEGIN:VCALENDAR
VERSION:2.0
PRODID:-//My Community Diary//iCal Event//EN
CALSCALE:GREGORIAN
METHOD:PUBLISH
BEGIN:VEVENT
UID:72a63841-c1b8-43ee-97ad-caf3eeb8f472
DTSTAMP:20260421T205435Z
DTSTART;VALUE=DATE:20260705
DTEND;VALUE=DATE:20260706
SUMMARY:LisAmore!
DESCRIPTION:LisAmore! is Lismore's beloved annual celebration of Italian culture—a vibrant festival that brings locals and visitors together for a joyful day of authentic flavours\, music\, dance\, and la dolce vita energy. Wander through stalls serving Italian classics\, enjoy live performances\, and admire an impressive display of Italian cars and motorbikes.\n\nImmerse yourself in Italian language workshops\, meet colourful Commedia dell'Arte characters\, and let the kids explore a world of fun with outdoor games\, chess and soccer\, Italian language sessions\, and hands-on creative crafts.\n\nHeld just two weeks after the iconic Lismore Lantern Parade\, it's the perfect excuse to make Lismore your Winter Wonder destination—come for one celebration\, stay for both\, and experience the magic of the season in beautiful Northern NSW.\n\nCome and experience a festival where friendship\, culture\, and community come together in an unforgettable celebration.\n\nEntry Cost\nAll tickets $5  - Children under 16 free
LOCATION:\, Woodlawn Road\, North Lismore\, NSW 2480\, NSW\, 2480
END:VEVENT
END:VCALENDAR
