BEGIN:VCALENDAR
VERSION:2.0
PRODID:-//My Community Diary//iCal Event//EN
CALSCALE:GREGORIAN
METHOD:PUBLISH
BEGIN:VEVENT
UID:a33dfd1e-6145-48c3-888b-ffc93ec3e71c
DTSTAMP:20260422T100324Z
DTSTART;VALUE=DATE:20260503
DTEND;VALUE=DATE:20260504
SUMMARY:Lisa Mitchell – NSW Regional Tour
DESCRIPTION:Lisa Mitchell is renowned for her beguiling melodies and hushed tones whether playing crystal pure folk such as in the sublime "Pirouette"\, or wrapped-up in subtle electro beats such as 2016's "The Boys"\, or the always-popular "Coin Laundry".  \n\nLisa has gone on to release 4 albums and 3 EPs garnering top ten ARIA accreditations and multiple ARIA award nominations\, winning the Australian Music Prize for her debut "Wonder" and spots at all major festivals across Australia and multiple international tours including playing Glastonbury.\n\nAfter starting Lisa Mitchell Choir in Naarm early 2025\, Lisa will be bringing her serene and honeyed sessions to the choir curious across this run of shows in Regional NSW.  Participants will have a 60 min choir session with Lisa before doors open\, where they will learn one of her songs in harmony arrangement\, and then get to perform the song with her on the night.  This special and exclusive offering is un-auditioned and open to all who want to connect with their voice and heart and have the experience of performing in a relaxed\, casual environment.\n\nSinging together is always a good idea!
LOCATION:\, 441 Eltham Road\, Eltham\, NSW 2480\, NSW\, 2480
END:VEVENT
END:VCALENDAR
