BEGIN:VCALENDAR
VERSION:2.0
PRODID:-//My Community Diary//iCal Event//EN
CALSCALE:GREGORIAN
METHOD:PUBLISH
BEGIN:VEVENT
UID:9e0e86fc-a1ea-4efc-a0b3-b735195fae36
DTSTAMP:20260422T033630Z
DTSTART;VALUE=DATE:20260522
DTEND;VALUE=DATE:20260523
SUMMARY:Limoncello Experience
DESCRIPTION:Lou from La Vespa will show you how to turn your lemon harvest into authentic\, delicious Limoncello\, as you dine on a tasty Limoncello-inspired menu.\n\nBYO no corkage charged and Free Limoncello making instructions\n\nProudly supported by the ShoalhavenFood Network as part of the Autumn Celebration of Food.\n\nEntry Cost\nAll tickets $45 
LOCATION:\, Burton Street Shop 31-5\, Vincentia\, NSW 2540\, NSW\, 2540
END:VEVENT
END:VCALENDAR
